BEGIN:VCALENDAR
VERSION:2.0
PRODID:-//LGE Intranet - ECPv6.6.4.2//NONSGML v1.0//EN
CALSCALE:GREGORIAN
METHOD:PUBLISH
X-ORIGINAL-URL:https://lgeteam-news.com
X-WR-CALDESC:évènements pour LGE Intranet
REFRESH-INTERVAL;VALUE=DURATION:PT1H
X-Robots-Tag:noindex
X-PUBLISHED-TTL:PT1H
BEGIN:VTIMEZONE
TZID:UTC
BEGIN:STANDARD
TZOFFSETFROM:+0000
TZOFFSETTO:+0000
TZNAME:UTC
DTSTART:20230101T000000
END:STANDARD
END:VTIMEZONE
BEGIN:VEVENT
DTSTART;TZID=UTC:20230301T180000
DTEND;TZID=UTC:20230324T203000
DTSTAMP:20260424T224853
CREATED:20200407T064616Z
LAST-MODIFIED:20230504T123556Z
UID:414-1677693600-1679689800@lgeteam-news.com
SUMMARY:Shogun : Teaser
DESCRIPTION:LaserGame Evolution présente le tant attendu mode de jeu Shogun ! \nLes amateurs des jeux stratégique peuvent se réjouir\, car LaserGame Evolution s’apprête à lancer son nouveau mode de jeu intitulé « Shogun ». Prévu pour le mois de mars\, ce mode de jeu promet une expérience immersive et palpitante\, transportant les joueurs dans l’univers des samouraïs et des combats épiques. LaserGame Evolution fait un grand pas en avant en offrant une expérience de jeu encore plus intense à ses clients. \nRetrouvé tous les visuels de lancement dans MODE DE JEU > SHOGUN\nsur Canva
URL:https://lgeteam-news.com/evenement/parramatta-wordpress-camp/
CATEGORIES:mode de jeu
ATTACH;FMTTYPE=image/jpeg:https://lgeteam-news.com/wp-content/uploads/2020/04/event-lancement-01.jpg
END:VEVENT
END:VCALENDAR