BEGIN:VCALENDAR
VERSION:2.0
PRODID:-//LGE Intranet - ECPv6.6.4.2//NONSGML v1.0//EN
CALSCALE:GREGORIAN
METHOD:PUBLISH
X-ORIGINAL-URL:https://lgeteam-news.com
X-WR-CALDESC:évènements pour LGE Intranet
REFRESH-INTERVAL;VALUE=DURATION:PT1H
X-Robots-Tag:noindex
X-PUBLISHED-TTL:PT1H
BEGIN:VTIMEZONE
TZID:Europe/Paris
BEGIN:DAYLIGHT
TZOFFSETFROM:+0100
TZOFFSETTO:+0200
TZNAME:CEST
DTSTART:20230326T010000
END:DAYLIGHT
BEGIN:STANDARD
TZOFFSETFROM:+0200
TZOFFSETTO:+0100
TZNAME:CET
DTSTART:20231029T010000
END:STANDARD
END:VTIMEZONE
BEGIN:VEVENT
DTSTART;TZID=Europe/Paris:20230421T080000
DTEND;TZID=Europe/Paris:20230501T170000
DTSTAMP:20260422T181132
CREATED:20230504T125850Z
LAST-MODIFIED:20230504T131605Z
UID:7260-1682064000-1682960400@lgeteam-news.com
SUMMARY:Marronnier : Fête du muguet
DESCRIPTION:LaserGame Evolution célèbre la traditionnelle fête du muguet dans une ambiance ludique et conviviale ! \nLe mois de mai est synonyme de renouveau\, de fleurs qui éclosent et de traditions printanières. Cette année\, LaserGame Evolution a décidé de célébrer la fête du muguet de manière ludique et festive. En associant la magie du jeu à l’esprit de convivialité\, Laser Game Evolution offrira à ses clients une expérience unique et mémorable. \n 
URL:https://lgeteam-news.com/evenement/fete-du-muguet/
CATEGORIES:marronnier
ATTACH;FMTTYPE=image/jpeg:https://lgeteam-news.com/wp-content/uploads/2023/05/event-marronnier-02.jpg
END:VEVENT
END:VCALENDAR